BEGIN:VCALENDAR
PRODID:-//AT Content Types//AT Event//EN
VERSION:1.0
BEGIN:VEVENT
DTSTART:20090116T130000Z
DTEND:20090116T143000Z
DCREATED:20081013T095032Z
UID:ATEvent-2be83ff9918b78286ef50a10bd643279
SEQUENCE:0
LAST-MODIFIED:20081013T095032Z
SUMMARY:BP-QM
LOCATION:Lecture Room H
PRIORITY:3
TRANSP:0
END:VEVENT
END:VCALENDAR
