BEGIN:VCALENDAR
PRODID:-//AT Content Types//AT Event//EN
VERSION:2.0
METHOD:PUBLISH
BEGIN:VEVENT
DTSTAMP:20260420T170418Z
CREATED:20081013T095023Z
UID:ATEvent-ca6316a1d6f591935154b8983c4a5658
LAST-MODIFIED:20081013T095023Z
SUMMARY:BP-QM
DTSTART:20081212T130000Z
DTEND:20081212T143000Z
LOCATION:Lecture Room H
CONTACT:George Thompson
URL:https://diploma-clear.ictp.it/courses/weekly-schedule/lecture-room-h/lecture.2008-10-13.4235041615
CLASS:PUBLIC
END:VEVENT
END:VCALENDAR
