BEGIN:VCALENDAR
PRODID:-//AT Content Types//AT Event//EN
VERSION:1.0
BEGIN:VEVENT
DTSTART:20081117T150000Z
DTEND:20081117T163000Z
DCREATED:20081013T091643Z
UID:ATEvent-17a57c24aa72a8a6902aea41cb414b40
SEQUENCE:0
LAST-MODIFIED:20081013T091643Z
SUMMARY:BP-CM
LOCATION:Lecture Room H
PRIORITY:3
TRANSP:0
END:VEVENT
END:VCALENDAR
