BEGIN:VCALENDAR
PRODID:-//AT Content Types//AT Event//EN
VERSION:2.0
METHOD:PUBLISH
BEGIN:VEVENT
DTSTAMP:20260419T173413Z
CREATED:20081013T091640Z
UID:ATEvent-59a9b661ea4fb33ec139d5bc005c261a
LAST-MODIFIED:20081013T091641Z
SUMMARY:BP-CM
DTSTART:20081110T150000Z
DTEND:20081110T163000Z
LOCATION:Lecture Room H
URL:https://diploma-clear.ictp.it/courses/weekly-schedule/lecture-room-h/lecture.2008-10-13.4009451299
CLASS:PUBLIC
END:VEVENT
END:VCALENDAR
