BEGIN:VCALENDAR
PRODID:-//AT Content Types//AT Event//EN
VERSION:2.0
METHOD:PUBLISH
BEGIN:VEVENT
DTSTAMP:20260425T185215Z
CREATED:20081010T145233Z
UID:ATEvent-ece6aa35a20f97f5e6fe51c507787170
LAST-MODIFIED:20081013T083754Z
SUMMARY:ESP-IPES
DTSTART:20080924T090000Z
DTEND:20080924T103000Z
LOCATION:Lecture Room H
URL:https://diploma-clear.ictp.it/courses/weekly-schedule/lecture-room-h/lecture.2008-10-10.3535182903
CLASS:PUBLIC
END:VEVENT
END:VCALENDAR
