BEGIN:VCALENDAR
PRODID:-//AT Content Types//AT Event//EN
VERSION:2.0
METHOD:PUBLISH
BEGIN:VEVENT
DTSTAMP:20260423T184443Z
CREATED:20081009T140714Z
UID:ATEvent-9f0d880ac09e76df47d0efef78c46af1
LAST-MODIFIED:20081009T140714Z
SUMMARY:BP-MM
DTSTART:20081218T100000Z
DTEND:20081218T113000Z
LOCATION:Lecture Room H
CONTACT:Kumar Narain
URL:https://diploma-clear.ictp.it/courses/weekly-schedule/lecture-room-h/lecture.2008-10-09.2339597174
CLASS:PUBLIC
END:VEVENT
END:VCALENDAR
