BEGIN:VCALENDAR
PRODID:-//AT Content Types//AT Event//EN
VERSION:2.0
METHOD:PUBLISH
BEGIN:VEVENT
DTSTAMP:20260422T003222Z
CREATED:20081009T140708Z
UID:ATEvent-0517fd2bfbbc19171fc1fc24d5b8e2a2
LAST-MODIFIED:20081107T133035Z
SUMMARY:BP-MM
DTSTART:20081113T130000Z
DTEND:20081113T143000Z
LOCATION:Lecture Room H
CONTACT:Kumar Narain
URL:https://diploma-clear.ictp.it/courses/weekly-schedule/lecture-room-h/lecture.2008-10-09.2281266452
CLASS:PUBLIC
END:VEVENT
END:VCALENDAR
