BEGIN:VCALENDAR
PRODID:-//AT Content Types//AT Event//EN
VERSION:2.0
METHOD:PUBLISH
BEGIN:VEVENT
DTSTAMP:20260420T052314Z
CREATED:20081009T140707Z
UID:ATEvent-d3981634a8886334884c3946d6b17301
LAST-MODIFIED:20081009T140707Z
SUMMARY:BP-MM
DTSTART:20081106T100000Z
DTEND:20081106T113000Z
LOCATION:Lecture Room H
CONTACT:Kumar Narain
URL:https://diploma-clear.ictp.it/courses/weekly-schedule/lecture-room-h/lecture.2008-10-09.2271100299
CLASS:PUBLIC
END:VEVENT
END:VCALENDAR
