BEGIN:VCALENDAR
PRODID:-//AT Content Types//AT Event//EN
VERSION:2.0
METHOD:PUBLISH
BEGIN:VEVENT
DTSTAMP:20260422T015813Z
CREATED:20081009T095601Z
UID:ATEvent-6b10d86551998d77b27857e8b9802a43
LAST-MODIFIED:20081009T095602Z
SUMMARY:ESP-WP
DTSTART:20081118T150000Z
DTEND:20081118T163000Z
LOCATION:Lecture Room H
CONTACT:Fabio Romanelli
URL:https://diploma-clear.ictp.it/courses/weekly-schedule/lecture-room-h/lecture.2008-10-09.1615876679
CLASS:PUBLIC
END:VEVENT
END:VCALENDAR
