BEGIN:VCALENDAR
PRODID:-//AT Content Types//AT Event//EN
VERSION:2.0
METHOD:PUBLISH
BEGIN:VEVENT
DTSTAMP:20260420T052344Z
CREATED:20081009T095556Z
UID:ATEvent-20501f55a7a6bca0e8882f11b80be4b7
LAST-MODIFIED:20081009T095557Z
SUMMARY:ESP-WP
DTSTART:20081016T140000Z
DTEND:20081016T153000Z
LOCATION:Lecture Room H
CONTACT:Fabio Romanelli
URL:https://diploma-clear.ictp.it/courses/weekly-schedule/lecture-room-h/lecture.2008-10-09.1569461557
CLASS:PUBLIC
END:VEVENT
END:VCALENDAR
