BEGIN:VCALENDAR
PRODID:-//AT Content Types//AT Event//EN
VERSION:2.0
METHOD:PUBLISH
BEGIN:VEVENT
DTSTAMP:20260420T221809Z
CREATED:20081009T095553Z
UID:ATEvent-85a3292e50dadb713e862590d15d389b
LAST-MODIFIED:20081009T095554Z
SUMMARY:ESP-WP
DTSTART:20080925T140000Z
DTEND:20080925T153000Z
LOCATION:Lecture Room H
CONTACT:Fabio Romanelli
URL:https://diploma-clear.ictp.it/courses/weekly-schedule/lecture-room-h/lecture.2008-10-09.1538308789
CLASS:PUBLIC
END:VEVENT
END:VCALENDAR
