BEGIN:VCALENDAR
PRODID:-//AT Content Types//AT Event//EN
VERSION:1.0
BEGIN:VEVENT
DTSTART:20080909T140000Z
DTEND:20080909T153000Z
DCREATED:20081009T095551Z
UID:ATEvent-1de86d2d123a786c318992085b3b69c8
SEQUENCE:0
LAST-MODIFIED:20081009T095551Z
SUMMARY:ESP-WP
LOCATION:Lecture Room H
PRIORITY:3
TRANSP:0
END:VEVENT
END:VCALENDAR
