BEGIN:VCALENDAR
PRODID:-//AT Content Types//AT Event//EN
VERSION:2.0
METHOD:PUBLISH
BEGIN:VEVENT
DTSTAMP:20260419T171901Z
CREATED:20151015T103604Z
UID:ATEvent-f01c6ed3c23e4a3c890d2864f92a8c0b
LAST-MODIFIED:20151015T103635Z
SUMMARY:ICTP official holiday
DTSTART:20151102T080000Z
DTEND:20151102T093000Z
LOCATION:Lecture Room H
URL:https://diploma-clear.ictp.it/courses/weekly-schedule/lecture-room-h/ictp-official-holiday-7
CLASS:PUBLIC
END:VEVENT
END:VCALENDAR
