BEGIN:VCALENDAR
PRODID:-//AT Content Types//AT Event//EN
VERSION:1.0
BEGIN:VEVENT
DTSTART:20140501T090000Z
DTEND:20140501T103000Z
DCREATED:20140425T140411Z
UID:ATEvent-41348ed53af7456c9e0e11c4624750cb
SEQUENCE:0
LAST-MODIFIED:20140425T140433Z
SUMMARY:ICTP official holiday
LOCATION:Lecture Room H
PRIORITY:3
TRANSP:0
END:VEVENT
END:VCALENDAR
