BEGIN:VCALENDAR
PRODID:-//AT Content Types//AT Event//EN
VERSION:2.0
METHOD:PUBLISH
BEGIN:VEVENT
DTSTAMP:20260420T211126Z
CREATED:20140411T124526Z
UID:ATEvent-1ee644c16f574e05b8abaa0716ef180b
LAST-MODIFIED:20140411T124550Z
SUMMARY:ICTP official holiday
DTSTART:20140418T090000Z
DTEND:20140418T103000Z
LOCATION:Lecture Room H
URL:https://diploma-clear.ictp.it/courses/weekly-schedule/lecture-room-h/ictp-official-holiday-1
CLASS:PUBLIC
END:VEVENT
END:VCALENDAR
