BEGIN:VCALENDAR
PRODID:-//AT Content Types//AT Event//EN
VERSION:1.0
BEGIN:VEVENT
DTSTART:20110425T090000Z
DTEND:20110425T103000Z
DCREATED:20110119T103707Z
UID:ATEvent-7768a4faec165992991633d16fd566b6
SEQUENCE:0
LAST-MODIFIED:20110119T103728Z
SUMMARY:ictp
LOCATION:Lecture Room H
PRIORITY:3
TRANSP:0
END:VEVENT
END:VCALENDAR
