BEGIN:VCALENDAR
PRODID:-//AT Content Types//AT Event//EN
VERSION:2.0
METHOD:PUBLISH
BEGIN:VEVENT
DTSTAMP:20260422T230112Z
CREATED:20110119T103439Z
UID:ATEvent-19dd5d332f9858ea1ea97c5fa7cd77fb
LAST-MODIFIED:20110119T103503Z
SUMMARY:ictp
DTSTART:20110422T090000Z
DTEND:20110422T103000Z
LOCATION:Lecture Room H
URL:https://diploma-clear.ictp.it/courses/weekly-schedule/lecture-room-h/ictp-6
CLASS:PUBLIC
END:VEVENT
END:VCALENDAR
