BEGIN:VCALENDAR
PRODID:-//ICTPDiploma//ATRoom//EN
VERSION:2.0
METHOD:PUBLISH
BEGIN:VEVENT
DTSTAMP:20260425T230853Z
CREATED:20191011T093654Z
UID:ATEvent-c9970df78ffc45d0af2d2c789e3acf21
LAST-MODIFIED:20191217T102905Z
SUMMARY:ESP-TPA
DTSTART:20191218T100000Z
DTEND:20191218T113000Z
LOCATION:Lecture Room H
CONTACT:A. Tompkins
URL:https://diploma-clear.ictp.it/courses/weekly-schedule/lecture-room-h/esp-tpa-6
CLASS:PUBLIC
END:VEVENT
BEGIN:VEVENT
DTSTAMP:20260425T230853Z
CREATED:20190813T083217Z
UID:ATEvent-e23ef26f6009441f97c931c4aafa0d02
LAST-MODIFIED:20190813T083217Z
SUMMARY:ESP-GFD
DTSTART:20191216T130000Z
DTEND:20191216T143000Z
LOCATION:Lecture Room H
CONTACT:S. Salon
URL:https://diploma-clear.ictp.it/courses/weekly-schedule/lecture-room-h/lecture.2019-08-13.1369988383
CLASS:PUBLIC
END:VEVENT
BEGIN:VEVENT
DTSTAMP:20260425T230853Z
CREATED:20190813T083217Z
UID:ATEvent-dffbd978223a4593902238151d9523fa
LAST-MODIFIED:20190813T083217Z
SUMMARY:ESP-GFD
DTSTART:20191218T130000Z
DTEND:20191218T143000Z
LOCATION:Lecture Room H
CONTACT:S. Salon
URL:https://diploma-clear.ictp.it/courses/weekly-schedule/lecture-room-h/lecture.2019-08-13.1371653360
CLASS:PUBLIC
END:VEVENT
END:VCALENDAR
