BEGIN:VCALENDAR
PRODID:-//ICTPDiploma//ATRoom//EN
VERSION:2.0
METHOD:PUBLISH
BEGIN:VEVENT
DTSTAMP:20260419T230245Z
CREATED:20211011T133053Z
UID:ATEvent-84a43a04c0ac46799b1596d57cf6851e
LAST-MODIFIED:20211011T133110Z
SUMMARY:
DTSTART:20211213T100000Z
DTEND:20211213T113000Z
LOCATION:Lecture Room H
URL:https://diploma-clear.ictp.it/courses/weekly-schedule/lecture-room-h/lecture.2021-10-11.0533439508
CLASS:PUBLIC
END:VEVENT
BEGIN:VEVENT
DTSTAMP:20260419T230245Z
CREATED:20211112T141522Z
UID:ATEvent-2c7dbe0c8f3240798d0f8b8d49484deb
LAST-MODIFIED:20211112T141630Z
SUMMARY:QLS-EE (19)
DTSTART:20211215T100000Z
DTEND:20211215T113000Z
LOCATION:Lecture Room H
CONTACT:none/unknown
URL:https://diploma-clear.ictp.it/courses/weekly-schedule/lecture-room-h/qls-ee-19
CLASS:PUBLIC
END:VEVENT
BEGIN:VEVENT
DTSTAMP:20260419T230245Z
CREATED:20210804T142022Z
UID:ATEvent-6302a13b36ea46bb804d6ec2adc771f4
LAST-MODIFIED:20210804T142022Z
SUMMARY:ESP-PEG
DTSTART:20211214T130000Z
DTEND:20211214T143000Z
LOCATION:Lecture Room H
CONTACT:A. Aoudia
URL:https://diploma-clear.ictp.it/courses/weekly-schedule/lecture-room-h/lecture.2021-08-04.8226443218
CLASS:PUBLIC
END:VEVENT
BEGIN:VEVENT
DTSTAMP:20260419T230245Z
CREATED:20210805T103507Z
UID:ATEvent-4c00fa1663d841a092251b90224b638c
LAST-MODIFIED:20210805T103507Z
SUMMARY:ESP-GFD
DTSTART:20211215T130000Z
DTEND:20211215T143000Z
LOCATION:Lecture Room H
CONTACT:S. Salon
URL:https://diploma-clear.ictp.it/courses/weekly-schedule/lecture-room-h/lecture.2021-08-05.7078000220
CLASS:PUBLIC
END:VEVENT
BEGIN:VEVENT
DTSTAMP:20260419T230245Z
CREATED:20210804T142022Z
UID:ATEvent-9d64ed1b9f8b44c798898e239b224b83
LAST-MODIFIED:20210804T142022Z
SUMMARY:ESP-PEG
DTSTART:20211216T130000Z
DTEND:20211216T143000Z
LOCATION:Lecture Room H
CONTACT:A. Aoudia
URL:https://diploma-clear.ictp.it/courses/weekly-schedule/lecture-room-h/lecture.2021-08-04.8227975725
CLASS:PUBLIC
END:VEVENT
BEGIN:VEVENT
DTSTAMP:20260419T230245Z
CREATED:20210805T103507Z
UID:ATEvent-f6ae222322764913b3dfa5dc6952ea45
LAST-MODIFIED:20210805T103508Z
SUMMARY:ESP-GFD
DTSTART:20211217T130000Z
DTEND:20211217T143000Z
LOCATION:Lecture Room H
CONTACT:S. Salon
URL:https://diploma-clear.ictp.it/courses/weekly-schedule/lecture-room-h/lecture.2021-08-05.7079512724
CLASS:PUBLIC
END:VEVENT
BEGIN:VEVENT
DTSTAMP:20260419T230245Z
CREATED:20210805T103507Z
UID:ATEvent-4590f6ca175d444e849d6a4c0279ded7
LAST-MODIFIED:20211213T123918Z
SUMMARY:ESP-GFD
DTSTART:20211214T150000Z
DTEND:20211214T163000Z
LOCATION:Lecture Room H
CONTACT:S. Salon
URL:https://diploma-clear.ictp.it/courses/weekly-schedule/lecture-room-h/lecture.2021-08-05.7076441481
CLASS:PUBLIC
END:VEVENT
BEGIN:VEVENT
DTSTAMP:20260419T230245Z
CREATED:20211209T080331Z
UID:ATEvent-33eda59c586541998909469f92f57354
LAST-MODIFIED:20211209T080351Z
SUMMARY:
DTSTART:20211215T150000Z
DTEND:20211215T163000Z
LOCATION:Lecture Room H
URL:https://diploma-clear.ictp.it/courses/weekly-schedule/lecture-room-h/lecture.2021-12-09.0117589833
CLASS:PUBLIC
END:VEVENT
END:VCALENDAR
