BEGIN:VCALENDAR
PRODID:-//ICTPDiploma//ATRoom//EN
VERSION:2.0
METHOD:PUBLISH
BEGIN:VEVENT
DTSTAMP:20260420T153256Z
CREATED:20121019T100234Z
UID:ATEvent-97e42ed2288b23a8906f4dd8854725ff
LAST-MODIFIED:20121019T121303Z
SUMMARY:ESP-PO
DTSTART:20121210T080000Z
DTEND:20121210T093000Z
LOCATION:Lecture Room H
CONTACT:P. Poulain
URL:https://diploma-clear.ictp.it/courses/weekly-schedule/lecture-room-h/esp-po-65
CLASS:PUBLIC
END:VEVENT
BEGIN:VEVENT
DTSTAMP:20260420T153256Z
CREATED:20121019T100234Z
UID:ATEvent-fca65ccabfc2b1f3155ac4d9d0f789aa
LAST-MODIFIED:20121019T121722Z
SUMMARY:ESP-PO
DTSTART:20121211T080000Z
DTEND:20121211T093000Z
LOCATION:Lecture Room H
CONTACT:P. Poulain
URL:https://diploma-clear.ictp.it/courses/weekly-schedule/lecture-room-h/esp-po-66
CLASS:PUBLIC
END:VEVENT
BEGIN:VEVENT
DTSTAMP:20260420T153256Z
CREATED:20121019T100235Z
UID:ATEvent-7e49e6f88e1f820f0b3765981e6a1d2b
LAST-MODIFIED:20121019T121542Z
SUMMARY:ESP-PO
DTSTART:20121214T080000Z
DTEND:20121214T093000Z
LOCATION:Lecture Room H
CONTACT:A. Crise
URL:https://diploma-clear.ictp.it/courses/weekly-schedule/lecture-room-h/esp-po-67
CLASS:PUBLIC
END:VEVENT
BEGIN:VEVENT
DTSTAMP:20260420T153256Z
CREATED:20120904T130807Z
UID:ATEvent-7cc1737c93cfe293faa06b4eb657d455
LAST-MODIFIED:20120904T130807Z
SUMMARY:ESP-PSE
DTSTART:20121212T100000Z
DTEND:20121212T113000Z
LOCATION:Lecture Room H
CONTACT:C. Braitenberg
URL:https://diploma-clear.ictp.it/courses/weekly-schedule/lecture-room-h/lecture.2012-09-04.0872367418
CLASS:PUBLIC
END:VEVENT
BEGIN:VEVENT
DTSTAMP:20260420T153256Z
CREATED:20121019T120909Z
UID:ATEvent-dadd464746bc6a584ffbe88a9313bf11
LAST-MODIFIED:20121019T121027Z
SUMMARY:ESP-EST
DTSTART:20121213T130000Z
DTEND:20121213T143000Z
LOCATION:Lecture Room H
CONTACT:A. Tompkins\, F. Solmon
URL:https://diploma-clear.ictp.it/courses/weekly-schedule/lecture-room-h/esp-est-3
CLASS:PUBLIC
END:VEVENT
BEGIN:VEVENT
DTSTAMP:20260420T153256Z
CREATED:20120902T101701Z
UID:ATEvent-ff8f955eed039e7a59716f220460de9e
LAST-MODIFIED:20121203T161233Z
SUMMARY:ESP-PA
DTSTART:20121211T150000Z
DTEND:20121211T163000Z
LOCATION:Lecture Room H
CONTACT:A. Tompkins
URL:https://diploma-clear.ictp.it/courses/weekly-schedule/lecture-room-h/lecture.2012-09-02.0208106815
CLASS:PUBLIC
END:VEVENT
BEGIN:VEVENT
DTSTAMP:20260420T153256Z
CREATED:20120902T101929Z
UID:ATEvent-788d0e9183ae844bc0bc90036c8a7a91
LAST-MODIFIED:20120902T102012Z
SUMMARY:ESP-PA
DTSTART:20121212T150000Z
DTEND:20121212T163000Z
LOCATION:Lecture Room H
CONTACT:A. Tompkins
URL:https://diploma-clear.ictp.it/courses/weekly-schedule/lecture-room-h/esp-pa-47
CLASS:PUBLIC
END:VEVENT
BEGIN:VEVENT
DTSTAMP:20260420T153256Z
CREATED:20121019T121105Z
UID:ATEvent-bb2dd2d2104dda7fc908ce0f5046ea19
LAST-MODIFIED:20121019T121138Z
SUMMARY:EXAM
DTSTART:20121213T150000Z
DTEND:20121213T163000Z
LOCATION:Lecture Room H
CONTACT:A. Tompkins\, F. Solmon
URL:https://diploma-clear.ictp.it/courses/weekly-schedule/lecture-room-h/exam-51
CLASS:PUBLIC
END:VEVENT
BEGIN:VEVENT
DTSTAMP:20260420T153256Z
CREATED:20120902T101701Z
UID:ATEvent-250d1e2636c112c96c9623a0dd4da62e
LAST-MODIFIED:20120902T101701Z
SUMMARY:ESP-PA
DTSTART:20121214T150000Z
DTEND:20121214T163000Z
LOCATION:Lecture Room H
CONTACT:A. Tompkins
URL:https://diploma-clear.ictp.it/courses/weekly-schedule/lecture-room-h/lecture.2012-09-02.0212336596
CLASS:PUBLIC
END:VEVENT
END:VCALENDAR
