BEGIN:VCALENDAR
PRODID:-//ICTPDiploma//ATRoom//EN
VERSION:2.0
METHOD:PUBLISH
BEGIN:VEVENT
DTSTAMP:20260419T171507Z
CREATED:20160804T091440Z
UID:ATEvent-bca96eee323d418d86f50326201fc59c
LAST-MODIFIED:20161118T130918Z
SUMMARY:ESP-FM
DTSTART:20161122T080000Z
DTEND:20161122T093000Z
LOCATION:Lecture Room H
CONTACT:R. Farneti
URL:https://diploma-clear.ictp.it/courses/weekly-schedule/lecture-room-h/lecture.2016-08-04.0803093674
CLASS:PUBLIC
END:VEVENT
BEGIN:VEVENT
DTSTAMP:20260419T171507Z
CREATED:20160804T091440Z
UID:ATEvent-3f7b83d218d8457cbf586fe011965e1e
LAST-MODIFIED:20160804T091440Z
SUMMARY:ESP-FM
DTSTART:20161124T080000Z
DTEND:20161124T093000Z
LOCATION:Lecture Room H
CONTACT:R. Farneti
URL:https://diploma-clear.ictp.it/courses/weekly-schedule/lecture-room-h/lecture.2016-08-04.0804410433
CLASS:PUBLIC
END:VEVENT
BEGIN:VEVENT
DTSTAMP:20260419T171507Z
CREATED:20161014T133118Z
UID:ATEvent-3fc3861be028421ca6b62bb78ed7a4f6
LAST-MODIFIED:20161014T133153Z
SUMMARY:ESP-PSE EXAM
DTSTART:20161122T100000Z
DTEND:20161122T113000Z
LOCATION:Lecture Room H
CONTACT:C. Braitenberg
URL:https://diploma-clear.ictp.it/courses/weekly-schedule/lecture-room-h/esp-pse-exam
CLASS:PUBLIC
END:VEVENT
END:VCALENDAR
