BEGIN:VCALENDAR
PRODID:-//ICTPDiploma//ATRoom//EN
VERSION:2.0
METHOD:PUBLISH
BEGIN:VEVENT
DTSTAMP:20260420T170448Z
CREATED:20220725T095924Z
UID:ATEvent-80f117b3ab784a12be951f608238e8be
LAST-MODIFIED:20220725T095925Z
SUMMARY:ESP-GFD
DTSTART:20221123T080000Z
DTEND:20221123T093000Z
LOCATION:Lecture Room H
CONTACT:S. Salon
URL:https://diploma-clear.ictp.it/courses/weekly-schedule/lecture-room-h/lecture.2022-07-25.1648785681
CLASS:PUBLIC
END:VEVENT
BEGIN:VEVENT
DTSTAMP:20260420T170448Z
CREATED:20221111T152911Z
UID:ATEvent-ca8f311975554388970854048ae71e4f
LAST-MODIFIED:20221121T100532Z
SUMMARY:ESP-TPA
DTSTART:20221125T080000Z
DTEND:20221125T093000Z
LOCATION:Lecture Room H
CONTACT:A. Tompkins
URL:https://diploma-clear.ictp.it/courses/weekly-schedule/lecture-room-h/esp-tpa-32
CLASS:PUBLIC
END:VEVENT
BEGIN:VEVENT
DTSTAMP:20260420T170448Z
CREATED:20221121T111043Z
UID:ATEvent-f9a3e906fcec4ba58d4c41d043a39e20
LAST-MODIFIED:20221121T111101Z
SUMMARY:ESP-GFD
DTSTART:20221121T130000Z
DTEND:20221121T143000Z
LOCATION:Lecture Room H
CONTACT:S. Salon
URL:https://diploma-clear.ictp.it/courses/weekly-schedule/lecture-room-h/esp-gfd-35
CLASS:PUBLIC
END:VEVENT
BEGIN:VEVENT
DTSTAMP:20260420T170448Z
CREATED:20221103T100027Z
UID:ATEvent-c277758503d34b2dae60e13ca18c83cf
LAST-MODIFIED:20221103T100217Z
SUMMARY:ESP-TPA
DTSTART:20221122T130000Z
DTEND:20221122T143000Z
LOCATION:Lecture Room H
CONTACT:A. Tompkins
URL:https://diploma-clear.ictp.it/courses/weekly-schedule/lecture-room-h/esp-tpa-29
CLASS:PUBLIC
END:VEVENT
BEGIN:VEVENT
DTSTAMP:20260420T170448Z
CREATED:20220721T124620Z
UID:ATEvent-b7bade5cf70e489187205388195c393c
LAST-MODIFIED:20220721T124620Z
SUMMARY:ESP-PEG
DTSTART:20221123T130000Z
DTEND:20221123T143000Z
LOCATION:Lecture Room H
CONTACT:A. Aoudia
URL:https://diploma-clear.ictp.it/courses/weekly-schedule/lecture-room-h/lecture.2022-07-21.5801535953
CLASS:PUBLIC
END:VEVENT
BEGIN:VEVENT
DTSTAMP:20260420T170448Z
CREATED:20221103T100101Z
UID:ATEvent-6b06f3b73a5f4c159485092073ac6f90
LAST-MODIFIED:20221103T100224Z
SUMMARY:ESP-TPA
DTSTART:20221124T130000Z
DTEND:20221124T143000Z
LOCATION:Lecture Room H
CONTACT:A. Tompkins
URL:https://diploma-clear.ictp.it/courses/weekly-schedule/lecture-room-h/esp-tpa-30
CLASS:PUBLIC
END:VEVENT
BEGIN:VEVENT
DTSTAMP:20260420T170448Z
CREATED:20220721T124620Z
UID:ATEvent-37e3af3385bc4296ab9c7ada50aae08a
LAST-MODIFIED:20220721T124620Z
SUMMARY:ESP-PEG
DTSTART:20221125T130000Z
DTEND:20221125T143000Z
LOCATION:Lecture Room H
CONTACT:A. Aoudia
URL:https://diploma-clear.ictp.it/courses/weekly-schedule/lecture-room-h/lecture.2022-07-21.5803177149
CLASS:PUBLIC
END:VEVENT
END:VCALENDAR
