BEGIN:VCALENDAR
PRODID:-//ICTPDiploma//ATRoom//EN
VERSION:2.0
METHOD:PUBLISH
BEGIN:VEVENT
DTSTAMP:20260420T161400Z
CREATED:20100922T100949Z
UID:ATEvent-85f05f4fa769cafbc2127d41fe710925
LAST-MODIFIED:20100922T123234Z
SUMMARY:ESP-IPES
DTSTART:20101115T080000Z
DTEND:20101115T093000Z
LOCATION:Lecture Room H
CONTACT:R. Farneti
URL:https://diploma-clear.ictp.it/courses/weekly-schedule/lecture-room-h/esp-ipes-71
CLASS:PUBLIC
END:VEVENT
BEGIN:VEVENT
DTSTAMP:20260420T161400Z
CREATED:20101104T141954Z
UID:ATEvent-7a3c55ab2c5a98ba8f02710c4be5bd39
LAST-MODIFIED:20101104T142100Z
SUMMARY:BP-QM
DTSTART:20101115T130000Z
DTEND:20101115T143000Z
LOCATION:Lecture Room H
CONTACT:G. Thompson
URL:https://diploma-clear.ictp.it/courses/weekly-schedule/lecture-room-h/bp-qm-72
CLASS:PUBLIC
END:VEVENT
BEGIN:VEVENT
DTSTAMP:20260420T161400Z
CREATED:20100922T124205Z
UID:ATEvent-02e11f245f2369034c488af98ff4261f
LAST-MODIFIED:20100922T125111Z
SUMMARY:BP-QM
DTSTART:20101117T130000Z
DTEND:20101117T143000Z
LOCATION:Lecture Room H
CONTACT:G. Thompson
URL:https://diploma-clear.ictp.it/courses/weekly-schedule/lecture-room-h/bp-qm-46
CLASS:PUBLIC
END:VEVENT
BEGIN:VEVENT
DTSTAMP:20260420T161400Z
CREATED:20100922T123828Z
UID:ATEvent-aaf94192369233c09b1169a679592002
LAST-MODIFIED:20100922T123900Z
SUMMARY:BP-CM
DTSTART:20101115T150000Z
DTEND:20101115T163000Z
LOCATION:Lecture Room H
CONTACT:M. Fabbrichesi
URL:https://diploma-clear.ictp.it/courses/weekly-schedule/lecture-room-h/bp-cm-30
CLASS:PUBLIC
END:VEVENT
BEGIN:VEVENT
DTSTAMP:20260420T161400Z
CREATED:20100922T124018Z
UID:ATEvent-0d152da1b91d0ad97ce0893090e8a1cb
LAST-MODIFIED:20100922T124050Z
SUMMARY:BP-QM tut.
DTSTART:20101116T150000Z
DTEND:20101116T163000Z
LOCATION:Lecture Room H
CONTACT:A. Paranjape
URL:https://diploma-clear.ictp.it/courses/weekly-schedule/lecture-room-h/bp-qm-tut-30
CLASS:PUBLIC
END:VEVENT
BEGIN:VEVENT
DTSTAMP:20260420T161400Z
CREATED:20100922T125126Z
UID:ATEvent-bf7410dbdab9e1ee24600f1892747ff4
LAST-MODIFIED:20100922T125152Z
SUMMARY:BP-CM
DTSTART:20101117T150000Z
DTEND:20101117T163000Z
LOCATION:Lecture Room H
CONTACT:M. Fabbrichesi
URL:https://diploma-clear.ictp.it/courses/weekly-schedule/lecture-room-h/bp-cm-31
CLASS:PUBLIC
END:VEVENT
BEGIN:VEVENT
DTSTAMP:20260420T161400Z
CREATED:20101104T135906Z
UID:ATEvent-9b6344f16095830ccbdc5aa71eba795e
LAST-MODIFIED:20101104T135944Z
SUMMARY:BP-CM
DTSTART:20101118T150000Z
DTEND:20101118T163000Z
LOCATION:Lecture Room H
CONTACT:M. Fabbrichesi
URL:https://diploma-clear.ictp.it/courses/weekly-schedule/lecture-room-h/bp-cm-28
CLASS:PUBLIC
END:VEVENT
BEGIN:VEVENT
DTSTAMP:20260420T161400Z
CREATED:20100922T125527Z
UID:ATEvent-8be41a389f39ed9338ff1973b118cee8
LAST-MODIFIED:20100922T125615Z
SUMMARY:BP-CM
DTSTART:20101119T150000Z
DTEND:20101119T163000Z
LOCATION:Lecture Room H
CONTACT:M. Fabbrichesi
URL:https://diploma-clear.ictp.it/courses/weekly-schedule/lecture-room-h/bp-cm-32
CLASS:PUBLIC
END:VEVENT
END:VCALENDAR
