BEGIN:VCALENDAR
PRODID:-//ICTPDiploma//ATRoom//EN
VERSION:2.0
METHOD:PUBLISH
BEGIN:VEVENT
DTSTAMP:20260423T200032Z
CREATED:20181025T142024Z
UID:ATEvent-f8be0684344b4adb9160e2851767d5fa
LAST-MODIFIED:20181102T103533Z
SUMMARY:ESP-EST
DTSTART:20181113T080000Z
DTEND:20181113T093000Z
LOCATION:Lecture Room H
CONTACT:A. Tompkins
URL:https://diploma-clear.ictp.it/courses/weekly-schedule/lecture-room-h/esp-est-42
CLASS:PUBLIC
END:VEVENT
BEGIN:VEVENT
DTSTAMP:20260423T200032Z
CREATED:20181025T142048Z
UID:ATEvent-846166b4ff5a41deae5bf9c22bbd803f
LAST-MODIFIED:20181102T103611Z
SUMMARY:EXAM
DTSTART:20181113T100000Z
DTEND:20181113T113000Z
LOCATION:Lecture Room H
CONTACT:A. Tompkins
URL:https://diploma-clear.ictp.it/courses/weekly-schedule/lecture-room-h/lecture.2018-10-25.2480873149
CLASS:PUBLIC
END:VEVENT
BEGIN:VEVENT
DTSTAMP:20260423T200032Z
CREATED:20180808T132626Z
UID:ATEvent-02ce9d3bec524688a874b31a82eb6c16
LAST-MODIFIED:20181109T084157Z
SUMMARY:ESP-PEG
DTSTART:20181115T100000Z
DTEND:20181115T113000Z
LOCATION:Lecture Room H
CONTACT:A. Aoudia
URL:https://diploma-clear.ictp.it/courses/weekly-schedule/lecture-room-h/esp-peg-6
CLASS:PUBLIC
END:VEVENT
BEGIN:VEVENT
DTSTAMP:20260423T200032Z
CREATED:20180808T141748Z
UID:ATEvent-8f67c7b805904c43988265d799646ebb
LAST-MODIFIED:20180808T141749Z
SUMMARY:ESP-FD
DTSTART:20181112T130000Z
DTEND:20181112T143000Z
LOCATION:Lecture Room H
CONTACT:R. Farneti
URL:https://diploma-clear.ictp.it/courses/weekly-schedule/lecture-room-h/lecture.2018-08-08.8689102014
CLASS:PUBLIC
END:VEVENT
BEGIN:VEVENT
DTSTAMP:20260423T200032Z
CREATED:20181025T141914Z
UID:ATEvent-d41cdba607e047eaaba751da4a374ca0
LAST-MODIFIED:20181025T141942Z
SUMMARY:
DTSTART:20181113T130000Z
DTEND:20181113T163000Z
LOCATION:Lecture Room H
URL:https://diploma-clear.ictp.it/courses/weekly-schedule/lecture-room-h/lecture.2018-10-25.1546961548
CLASS:PUBLIC
END:VEVENT
BEGIN:VEVENT
DTSTAMP:20260423T200032Z
CREATED:20180808T141749Z
UID:ATEvent-70d31934cb354358848508cb17f0fec7
LAST-MODIFIED:20180808T141749Z
SUMMARY:ESP-FD
DTSTART:20181114T130000Z
DTEND:20181114T143000Z
LOCATION:Lecture Room H
CONTACT:R. Farneti
URL:https://diploma-clear.ictp.it/courses/weekly-schedule/lecture-room-h/lecture.2018-08-08.8690639046
CLASS:PUBLIC
END:VEVENT
BEGIN:VEVENT
DTSTAMP:20260423T200032Z
CREATED:20180808T141749Z
UID:ATEvent-d98f30b3cd4940b896c2a97a279b94e1
LAST-MODIFIED:20180808T141749Z
SUMMARY:ESP-FD
DTSTART:20181116T130000Z
DTEND:20181116T143000Z
LOCATION:Lecture Room H
CONTACT:R. Farneti
URL:https://diploma-clear.ictp.it/courses/weekly-schedule/lecture-room-h/lecture.2018-08-08.8692207243
CLASS:PUBLIC
END:VEVENT
BEGIN:VEVENT
DTSTAMP:20260423T200032Z
CREATED:20181025T141914Z
UID:ATEvent-d41cdba607e047eaaba751da4a374ca0
LAST-MODIFIED:20181025T141942Z
SUMMARY:
DTSTART:20181113T130000Z
DTEND:20181113T163000Z
LOCATION:Lecture Room H
URL:https://diploma-clear.ictp.it/courses/weekly-schedule/lecture-room-h/lecture.2018-10-25.1546961548
CLASS:PUBLIC
END:VEVENT
BEGIN:VEVENT
DTSTAMP:20260423T200032Z
CREATED:20180808T132758Z
UID:ATEvent-51478e12206c42d8a1e9bc4f6879f2b9
LAST-MODIFIED:20180808T132758Z
SUMMARY:ESP-PA
DTSTART:20181114T150000Z
DTEND:20181114T163000Z
LOCATION:Lecture Room H
CONTACT:A. Tompkins
URL:https://diploma-clear.ictp.it/courses/weekly-schedule/lecture-room-h/lecture.2018-08-08.8785892423
CLASS:PUBLIC
END:VEVENT
END:VCALENDAR
