BEGIN:VCALENDAR
PRODID:-//ICTPDiploma//ATRoom//EN
VERSION:2.0
METHOD:PUBLISH
BEGIN:VEVENT
DTSTAMP:20260420T035409Z
CREATED:20100916T130831Z
UID:ATEvent-cbbd5e62fdca0f53adf40186225fe883
LAST-MODIFIED:20101109T101516Z
SUMMARY:ESP-IPES
DTSTART:20101018T070000Z
DTEND:20101018T083000Z
LOCATION:Lecture Room H
CONTACT:R. Farneti
URL:https://diploma-clear.ictp.it/courses/weekly-schedule/lecture-room-h/esp-ipes-60
CLASS:PUBLIC
END:VEVENT
BEGIN:VEVENT
DTSTAMP:20260420T035409Z
CREATED:20100916T131210Z
UID:ATEvent-fbbd235b566da335ce74f849be0439ed
LAST-MODIFIED:20101201T084430Z
SUMMARY:ESP-IPES Rdgs. 1
DTSTART:20101020T070000Z
DTEND:20101020T083000Z
LOCATION:Lecture Room H
CONTACT:C. Piani
URL:https://diploma-clear.ictp.it/courses/weekly-schedule/lecture-room-h/esp-ipes-61
CLASS:PUBLIC
END:VEVENT
BEGIN:VEVENT
DTSTAMP:20260420T035409Z
CREATED:20100916T131446Z
UID:ATEvent-8d6a6bb713c62f6917387438fcbc3f73
LAST-MODIFIED:20101201T084456Z
SUMMARY:ESP-IPES Rdgs. 2
DTSTART:20101022T070000Z
DTEND:20101022T083000Z
LOCATION:Lecture Room H
CONTACT:C. Piani
URL:https://diploma-clear.ictp.it/courses/weekly-schedule/lecture-room-h/esp-ipes-62
CLASS:PUBLIC
END:VEVENT
BEGIN:VEVENT
DTSTAMP:20260420T035409Z
CREATED:20100916T130903Z
UID:ATEvent-a366380b05ea71599e49242403ecc73e
LAST-MODIFIED:20100916T130943Z
SUMMARY:BP-MM
DTSTART:20101018T090000Z
DTEND:20101018T103000Z
LOCATION:Lecture Room H
CONTACT:K.S. Narain
URL:https://diploma-clear.ictp.it/courses/weekly-schedule/lecture-room-h/bp-mm-78
CLASS:PUBLIC
END:VEVENT
BEGIN:VEVENT
DTSTAMP:20260420T035409Z
CREATED:20100916T131023Z
UID:ATEvent-131186c2cd9f4d0195984bee0f4459fa
LAST-MODIFIED:20100916T131110Z
SUMMARY:BP-MM
DTSTART:20101019T090000Z
DTEND:20101019T103000Z
LOCATION:Lecture Room H
CONTACT:K.S. Narain
URL:https://diploma-clear.ictp.it/courses/weekly-schedule/lecture-room-h/bp-mm-79
CLASS:PUBLIC
END:VEVENT
BEGIN:VEVENT
DTSTAMP:20260420T035409Z
CREATED:20101001T083554Z
UID:ATEvent-52c4f75b8b5787f2cfbc1dfe9e5b493f
LAST-MODIFIED:20101001T083631Z
SUMMARY:BP-MM tut.
DTSTART:20101020T090000Z
DTEND:20101020T103000Z
LOCATION:Lecture Room H
CONTACT:Shehu S. AbdusSalam
URL:https://diploma-clear.ictp.it/courses/weekly-schedule/lecture-room-h/bp-mm-tut-25
CLASS:PUBLIC
END:VEVENT
BEGIN:VEVENT
DTSTAMP:20260420T035409Z
CREATED:20100916T131323Z
UID:ATEvent-47360e20da79b6d5753f5eb079c9148e
LAST-MODIFIED:20100916T131354Z
SUMMARY:BP-MM
DTSTART:20101021T090000Z
DTEND:20101021T103000Z
LOCATION:Lecture Room H
CONTACT:K.S. Narain
URL:https://diploma-clear.ictp.it/courses/weekly-schedule/lecture-room-h/bp-mm-80
CLASS:PUBLIC
END:VEVENT
BEGIN:VEVENT
DTSTAMP:20260420T035409Z
CREATED:20100916T131808Z
UID:ATEvent-f70f0a13b4a3215922d8aa7f0d36ec28
LAST-MODIFIED:20100916T131830Z
SUMMARY:BP-MM
DTSTART:20101022T090000Z
DTEND:20101022T103000Z
LOCATION:Lecture Room H
CONTACT:K.S. Narain
URL:https://diploma-clear.ictp.it/courses/weekly-schedule/lecture-room-h/bp-mm-81
CLASS:PUBLIC
END:VEVENT
BEGIN:VEVENT
DTSTAMP:20260420T035409Z
CREATED:20100916T130950Z
UID:ATEvent-be23368605c396d30715f74268292600
LAST-MODIFIED:20100916T131011Z
SUMMARY:BP-QM
DTSTART:20101018T120000Z
DTEND:20101018T133000Z
LOCATION:Lecture Room H
CONTACT:G. Thompson
URL:https://diploma-clear.ictp.it/courses/weekly-schedule/lecture-room-h/bp-qm-53
CLASS:PUBLIC
END:VEVENT
BEGIN:VEVENT
DTSTAMP:20260420T035409Z
CREATED:20100917T104955Z
UID:ATEvent-ae2ec187fc442568df9a8b8e66972288
LAST-MODIFIED:20100917T105030Z
SUMMARY:BP-QM tut.
DTSTART:20101019T120000Z
DTEND:20101019T133000Z
LOCATION:Lecture Room H
CONTACT:A. Paranjape
URL:https://diploma-clear.ictp.it/courses/weekly-schedule/lecture-room-h/bp-qm-tut-26
CLASS:PUBLIC
END:VEVENT
BEGIN:VEVENT
DTSTAMP:20260420T035409Z
CREATED:20100916T131251Z
UID:ATEvent-bc1de158e4bba1f345fcee160c107089
LAST-MODIFIED:20100916T131313Z
SUMMARY:BP-QM
DTSTART:20101020T120000Z
DTEND:20101020T133000Z
LOCATION:Lecture Room H
CONTACT:G. Thompson
URL:https://diploma-clear.ictp.it/courses/weekly-schedule/lecture-room-h/bp-qm-54
CLASS:PUBLIC
END:VEVENT
BEGIN:VEVENT
DTSTAMP:20260420T035409Z
CREATED:20100916T131839Z
UID:ATEvent-892069d74889ffd9c5b78a2797d6e72b
LAST-MODIFIED:20100916T132750Z
SUMMARY:BP-QM
DTSTART:20101022T120000Z
DTEND:20101022T133000Z
LOCATION:Lecture Room H
CONTACT:G. Thompson
URL:https://diploma-clear.ictp.it/courses/weekly-schedule/lecture-room-h/bp-qm-55
CLASS:PUBLIC
END:VEVENT
BEGIN:VEVENT
DTSTAMP:20260420T035409Z
CREATED:20100916T131124Z
UID:ATEvent-e932b14df11332a0b95adb5437864440
LAST-MODIFIED:20101012T082904Z
SUMMARY:ESP-WP
DTSTART:20101019T140000Z
DTEND:20101019T153000Z
LOCATION:Lecture Room H
CONTACT:F. Romanelli
URL:https://diploma-clear.ictp.it/courses/weekly-schedule/lecture-room-h/esp-wp-rdgs.-1-1
CLASS:PUBLIC
END:VEVENT
END:VCALENDAR
