BEGIN:VCALENDAR
PRODID:-//ICTPDiploma//ATRoom//EN
VERSION:2.0
METHOD:PUBLISH
BEGIN:VEVENT
DTSTAMP:20260421T110116Z
CREATED:20090915T092432Z
UID:ATEvent-6447ca1f2bbcfb4b6a16e2e2bc886e28
LAST-MODIFIED:20090915T092456Z
SUMMARY:ESP-MMG
DTSTART:20091019T070000Z
DTEND:20091019T083000Z
LOCATION:Lecture Room H
CONTACT:Fred Kucharski
URL:https://diploma-clear.ictp.it/courses/weekly-schedule/lecture-room-h/esp-mmg-6
CLASS:PUBLIC
END:VEVENT
BEGIN:VEVENT
DTSTAMP:20260421T110117Z
CREATED:20090915T091123Z
UID:ATEvent-96c60ef6b6b69b6f0188dc3a708041af
LAST-MODIFIED:20090915T091148Z
SUMMARY:ESP-IPES
DTSTART:20091020T070000Z
DTEND:20091020T083000Z
LOCATION:Lecture Room H
CONTACT:Claudio Piani
URL:https://diploma-clear.ictp.it/courses/weekly-schedule/lecture-room-h/esp-ipes-34
CLASS:PUBLIC
END:VEVENT
BEGIN:VEVENT
DTSTAMP:20260421T110117Z
CREATED:20090915T091200Z
UID:ATEvent-8ea3b1dee7b96696c68e0d5e01a7db10
LAST-MODIFIED:20090915T091225Z
SUMMARY:ESP-IPES
DTSTART:20091021T070000Z
DTEND:20091021T083000Z
LOCATION:Lecture Room H
CONTACT:Claudio Piani
URL:https://diploma-clear.ictp.it/courses/weekly-schedule/lecture-room-h/esp-ipes-35
CLASS:PUBLIC
END:VEVENT
BEGIN:VEVENT
DTSTAMP:20260421T110117Z
CREATED:20090915T092520Z
UID:ATEvent-ba25464e2327b9ee4f0ca827802c0360
LAST-MODIFIED:20090915T092547Z
SUMMARY:ESP-MMG
DTSTART:20091022T070000Z
DTEND:20091022T083000Z
LOCATION:Lecture Room H
CONTACT:Fred Kucharski
URL:https://diploma-clear.ictp.it/courses/weekly-schedule/lecture-room-h/esp-mmg-7
CLASS:PUBLIC
END:VEVENT
BEGIN:VEVENT
DTSTAMP:20260421T110117Z
CREATED:20090915T091237Z
UID:ATEvent-db12aac63a4ea6f3d2fca52e03aec1d7
LAST-MODIFIED:20090915T091303Z
SUMMARY:ESP-IPES
DTSTART:20091023T070000Z
DTEND:20091023T083000Z
LOCATION:Lecture Room H
CONTACT:Claudio Piani
URL:https://diploma-clear.ictp.it/courses/weekly-schedule/lecture-room-h/esp-ipes-36
CLASS:PUBLIC
END:VEVENT
BEGIN:VEVENT
DTSTAMP:20260421T110117Z
CREATED:20090915T132356Z
UID:ATEvent-8dc61114bc38c3f75bf5f7c1a90559cb
LAST-MODIFIED:20090915T132418Z
SUMMARY:BP-MM
DTSTART:20091019T090000Z
DTEND:20091019T103000Z
LOCATION:Lecture Room H
CONTACT:Kumar Narain
URL:https://diploma-clear.ictp.it/courses/weekly-schedule/lecture-room-h/bp-mm-35
CLASS:PUBLIC
END:VEVENT
BEGIN:VEVENT
DTSTAMP:20260421T110117Z
CREATED:20090915T132428Z
UID:ATEvent-9d0396e1b550717358c026a13f4acf9b
LAST-MODIFIED:20090915T132511Z
SUMMARY:BP-MM
DTSTART:20091020T090000Z
DTEND:20091020T103000Z
LOCATION:Lecture Room H
CONTACT:Kumar Narain
URL:https://diploma-clear.ictp.it/courses/weekly-schedule/lecture-room-h/bp-mm-36
CLASS:PUBLIC
END:VEVENT
BEGIN:VEVENT
DTSTAMP:20260421T110117Z
CREATED:20090915T132624Z
UID:ATEvent-61ef9da5ac4ff969e6b536dc03970275
LAST-MODIFIED:20090915T132650Z
SUMMARY:BP-MM
DTSTART:20091022T090000Z
DTEND:20091022T103000Z
LOCATION:Lecture Room H
CONTACT:Kumar Narain
URL:https://diploma-clear.ictp.it/courses/weekly-schedule/lecture-room-h/bp-mm-37
CLASS:PUBLIC
END:VEVENT
BEGIN:VEVENT
DTSTAMP:20260421T110117Z
CREATED:20090915T132700Z
UID:ATEvent-3cbf93e39849c751e23397fd8f80555b
LAST-MODIFIED:20090915T133928Z
SUMMARY:BP-MM
DTSTART:20091023T090000Z
DTEND:20091023T103000Z
LOCATION:Lecture Room H
CONTACT:Kumar Narain
URL:https://diploma-clear.ictp.it/courses/weekly-schedule/lecture-room-h/bp-mm-38
CLASS:PUBLIC
END:VEVENT
BEGIN:VEVENT
DTSTAMP:20260421T110117Z
CREATED:20090915T140256Z
UID:ATEvent-7b3da1a2b8f1175246af090baa451f64
LAST-MODIFIED:20090915T140323Z
SUMMARY:BP-MM tut.
DTSTART:20091021T120000Z
DTEND:20091021T133000Z
LOCATION:Lecture Room H
CONTACT:Ho-Ung YEE
URL:https://diploma-clear.ictp.it/courses/weekly-schedule/lecture-room-h/bp-mm-tut-13
CLASS:PUBLIC
END:VEVENT
BEGIN:VEVENT
DTSTAMP:20260421T110117Z
CREATED:20090923T075051Z
UID:ATEvent-d93d9970646261bc643c60115f0b8ec6
LAST-MODIFIED:20090923T075159Z
SUMMARY:ESP-IPES
DTSTART:20091023T120000Z
DTEND:20091023T133000Z
LOCATION:Lecture Room H
CONTACT:Claudio Piani
URL:https://diploma-clear.ictp.it/courses/weekly-schedule/lecture-room-h/esp-ipes-43
CLASS:PUBLIC
END:VEVENT
BEGIN:VEVENT
DTSTAMP:20260421T110117Z
CREATED:20090915T082623Z
UID:ATEvent-b878bb9ab5273014dba14089e7759135
LAST-MODIFIED:20090915T082722Z
SUMMARY:ESP-WP
DTSTART:20091022T140000Z
DTEND:20091022T153000Z
LOCATION:Lecture Room H
CONTACT:Fabio Romanelli
URL:https://diploma-clear.ictp.it/courses/weekly-schedule/lecture-room-h/esp-wp-16
CLASS:PUBLIC
END:VEVENT
END:VCALENDAR
