BEGIN:VCALENDAR
PRODID:-//ICTPDiploma//ATRoom//EN
VERSION:2.0
METHOD:PUBLISH
BEGIN:VEVENT
DTSTAMP:20260419T171521Z
CREATED:20100830T140145Z
UID:ATEvent-32f95723327521790254cd2af812631a
LAST-MODIFIED:20100830T140227Z
SUMMARY:ESP-IPES
DTSTART:20100927T070000Z
DTEND:20100927T083000Z
LOCATION:Lecture Room H
CONTACT:C. Piani
URL:https://diploma-clear.ictp.it/courses/weekly-schedule/lecture-room-h/esp-ipes-51
CLASS:PUBLIC
END:VEVENT
BEGIN:VEVENT
DTSTAMP:20260419T171521Z
CREATED:20100830T141220Z
UID:ATEvent-c042452c1a979a12729aec079d0285a6
LAST-MODIFIED:20100830T141257Z
SUMMARY:ESP-IPES
DTSTART:20100929T070000Z
DTEND:20100929T083000Z
LOCATION:Lecture Room H
CONTACT:C. Piani
URL:https://diploma-clear.ictp.it/courses/weekly-schedule/lecture-room-h/esp-ipes-52
CLASS:PUBLIC
END:VEVENT
BEGIN:VEVENT
DTSTAMP:20260419T171521Z
CREATED:20100830T141544Z
UID:ATEvent-7a89b560da836f3886074f1c73ceeb8c
LAST-MODIFIED:20100830T141631Z
SUMMARY:ESP-IPES
DTSTART:20101001T070000Z
DTEND:20101001T083000Z
LOCATION:Lecture Room H
CONTACT:C. Piani
URL:https://diploma-clear.ictp.it/courses/weekly-schedule/lecture-room-h/esp-ipes-53
CLASS:PUBLIC
END:VEVENT
BEGIN:VEVENT
DTSTAMP:20260419T171521Z
CREATED:20100830T140233Z
UID:ATEvent-7bc7898543a8ccea9530bc7dbc16f986
LAST-MODIFIED:20100830T140314Z
SUMMARY:BP-MM
DTSTART:20100927T090000Z
DTEND:20100927T103000Z
LOCATION:Lecture Room H
CONTACT:K.S. Narain
URL:https://diploma-clear.ictp.it/courses/weekly-schedule/lecture-room-h/bp-mm-66
CLASS:PUBLIC
END:VEVENT
BEGIN:VEVENT
DTSTAMP:20260419T171521Z
CREATED:20100830T141031Z
UID:ATEvent-536d41f4ccaceddf9ff9d5d15f85ab0c
LAST-MODIFIED:20100830T141116Z
SUMMARY:BP-MM
DTSTART:20100928T090000Z
DTEND:20100928T103000Z
LOCATION:Lecture Room H
CONTACT:K.S. Narain
URL:https://diploma-clear.ictp.it/courses/weekly-schedule/lecture-room-h/bp-mm-67
CLASS:PUBLIC
END:VEVENT
BEGIN:VEVENT
DTSTAMP:20260419T171521Z
CREATED:20100830T141429Z
UID:ATEvent-d5882de0cbed25a413c6cf96781e09f4
LAST-MODIFIED:20100830T141455Z
SUMMARY:BP-MM
DTSTART:20100930T090000Z
DTEND:20100930T103000Z
LOCATION:Lecture Room H
CONTACT:K.S. Narain
URL:https://diploma-clear.ictp.it/courses/weekly-schedule/lecture-room-h/bp-mm-68
CLASS:PUBLIC
END:VEVENT
BEGIN:VEVENT
DTSTAMP:20260419T171521Z
CREATED:20100830T141640Z
UID:ATEvent-b7cf2120b561ff8047d8ac656b3c2a96
LAST-MODIFIED:20100830T141714Z
SUMMARY:BP-MM
DTSTART:20101001T090000Z
DTEND:20101001T103000Z
LOCATION:Lecture Room H
CONTACT:K.S. Narain
URL:https://diploma-clear.ictp.it/courses/weekly-schedule/lecture-room-h/bp-mm-69
CLASS:PUBLIC
END:VEVENT
BEGIN:VEVENT
DTSTAMP:20260419T171521Z
CREATED:20100902T101140Z
UID:ATEvent-22487302e38ebc55e31a45aef0a0e903
LAST-MODIFIED:20100902T101200Z
SUMMARY:BP-QM
DTSTART:20100927T120000Z
DTEND:20100927T133000Z
LOCATION:Lecture Room H
CONTACT:G. Thompson
URL:https://diploma-clear.ictp.it/courses/weekly-schedule/lecture-room-h/bp-qm-44
CLASS:PUBLIC
END:VEVENT
BEGIN:VEVENT
DTSTAMP:20260419T171521Z
CREATED:20100917T103131Z
UID:ATEvent-e76f991c52c78df0ef67bcfa646323f9
LAST-MODIFIED:20100917T103524Z
SUMMARY:BP-QM tut.
DTSTART:20100928T120000Z
DTEND:20100928T133000Z
LOCATION:Lecture Room H
CONTACT:A. Paranjape
URL:https://diploma-clear.ictp.it/courses/weekly-schedule/lecture-room-h/bp-qm-tut-23
CLASS:PUBLIC
END:VEVENT
BEGIN:VEVENT
DTSTAMP:20260419T171521Z
CREATED:20100830T141330Z
UID:ATEvent-9075b4dbc35aea9031eb898580cd2b21
LAST-MODIFIED:20100929T073717Z
SUMMARY:ESP-WP
DTSTART:20100929T120000Z
DTEND:20100929T133000Z
LOCATION:Lecture Room H
CONTACT:F. Romanelli
URL:https://diploma-clear.ictp.it/courses/weekly-schedule/lecture-room-h/esp-wp-42
CLASS:PUBLIC
END:VEVENT
BEGIN:VEVENT
DTSTAMP:20260419T171521Z
CREATED:20100830T141139Z
UID:ATEvent-613be55bbf5bf52343a52ad711f99a19
LAST-MODIFIED:20100830T141204Z
SUMMARY:ESP-WP
DTSTART:20100928T140000Z
DTEND:20100928T153000Z
LOCATION:Lecture Room H
CONTACT:F. Romanelli
URL:https://diploma-clear.ictp.it/courses/weekly-schedule/lecture-room-h/esp-wp-41
CLASS:PUBLIC
END:VEVENT
END:VCALENDAR
