BEGIN:VCALENDAR
PRODID:-//ICTPDiploma//ATRoom//EN
VERSION:2.0
METHOD:PUBLISH
BEGIN:VEVENT
DTSTAMP:20260420T190411Z
CREATED:20190813T074851Z
UID:ATEvent-2c27a6b907d54e2eb661c4f9adfb7182
LAST-MODIFIED:20190813T074851Z
SUMMARY:ESP-WP
DTSTART:20190923T090000Z
DTEND:20190923T103000Z
LOCATION:Lecture Room H
CONTACT:F. Romanelli
URL:https://diploma-clear.ictp.it/courses/weekly-schedule/lecture-room-h/lecture.2019-08-13.5311772630
CLASS:PUBLIC
END:VEVENT
BEGIN:VEVENT
DTSTAMP:20260420T190411Z
CREATED:20190813T074851Z
UID:ATEvent-b3c4975c5fd14198808b6e89752143ef
LAST-MODIFIED:20190813T074851Z
SUMMARY:ESP-WP
DTSTART:20190925T090000Z
DTEND:20190925T103000Z
LOCATION:Lecture Room H
CONTACT:F. Romanelli
URL:https://diploma-clear.ictp.it/courses/weekly-schedule/lecture-room-h/lecture.2019-08-13.5313284783
CLASS:PUBLIC
END:VEVENT
BEGIN:VEVENT
DTSTAMP:20260420T190411Z
CREATED:20190813T074851Z
UID:ATEvent-2ade41afeae44688ac9e92b45a841b29
LAST-MODIFIED:20190813T074851Z
SUMMARY:ESP-WP
DTSTART:20190927T090000Z
DTEND:20190927T103000Z
LOCATION:Lecture Room H
CONTACT:F. Romanelli
URL:https://diploma-clear.ictp.it/courses/weekly-schedule/lecture-room-h/lecture.2019-08-13.5314752284
CLASS:PUBLIC
END:VEVENT
BEGIN:VEVENT
DTSTAMP:20260420T190411Z
CREATED:20190918T095529Z
UID:ATEvent-a658ee5b42bd43aaafe1c6e1e6f52e7f
LAST-MODIFIED:20190918T095553Z
SUMMARY:ESP-WP
DTSTART:20190925T120000Z
DTEND:20190925T133000Z
LOCATION:Lecture Room H
CONTACT:F. Romanelli
URL:https://diploma-clear.ictp.it/courses/weekly-schedule/lecture-room-h/esp-wp-97
CLASS:PUBLIC
END:VEVENT
BEGIN:VEVENT
DTSTAMP:20260420T190411Z
CREATED:20190918T094743Z
UID:ATEvent-7266969ee7ec4aabbfd0069180832941
LAST-MODIFIED:20190918T095011Z
SUMMARY:17:00 hrs Colloquium Prof. Bo N.J. Persson (BLH)
DTSTART:20190925T140000Z
DTEND:20190925T153000Z
LOCATION:Lecture Room H
URL:https://diploma-clear.ictp.it/courses/weekly-schedule/lecture-room-h/17-00-hrs-colloquium
CLASS:PUBLIC
END:VEVENT
END:VCALENDAR
