BEGIN:VCALENDAR
PRODID:-//ICTPDiploma//ATRoom//EN
VERSION:2.0
METHOD:PUBLISH
BEGIN:VEVENT
DTSTAMP:20260420T141957Z
CREATED:20090223T150939Z
UID:ATEvent-5e548393ef9e59deaa73ce9a0326fbae
LAST-MODIFIED:20090223T151034Z
SUMMARY:BP-RQM
DTSTART:20090803T090000Z
DTEND:20090803T103000Z
LOCATION:Lecture Room H
CONTACT:Seifallah Randjbar-Daemi
URL:https://diploma-clear.ictp.it/courses/weekly-schedule/lecture-room-h/bp-rqm-16
CLASS:PUBLIC
END:VEVENT
BEGIN:VEVENT
DTSTAMP:20260420T141957Z
CREATED:20090223T151044Z
UID:ATEvent-9bd1d6c9492abdb1b1d7269466e12e8a
LAST-MODIFIED:20090223T151245Z
SUMMARY:BP-RQM
DTSTART:20090804T090000Z
DTEND:20090804T103000Z
LOCATION:Lecture Room H
CONTACT:Seifallah Randjbar-Daemi
URL:https://diploma-clear.ictp.it/courses/weekly-schedule/lecture-room-h/bp-rqm-17
CLASS:PUBLIC
END:VEVENT
BEGIN:VEVENT
DTSTAMP:20260420T141957Z
CREATED:20090223T151315Z
UID:ATEvent-c6fddd68da18bc184878a47bf193c9c8
LAST-MODIFIED:20090223T151415Z
SUMMARY:BP-RQM
DTSTART:20090806T090000Z
DTEND:20090806T103000Z
LOCATION:Lecture Room H
CONTACT:Seifallah Randjbar-Daemi
URL:https://diploma-clear.ictp.it/courses/weekly-schedule/lecture-room-h/bp-rqm-18
CLASS:PUBLIC
END:VEVENT
BEGIN:VEVENT
DTSTAMP:20260420T141957Z
CREATED:20090223T151454Z
UID:ATEvent-5060f417ea70153596f924c72edc1f99
LAST-MODIFIED:20090223T151536Z
SUMMARY:BP-RQM
DTSTART:20090807T090000Z
DTEND:20090807T103000Z
LOCATION:Lecture Room H
CONTACT:Seifallah Randjbar-Daemi
URL:https://diploma-clear.ictp.it/courses/weekly-schedule/lecture-room-h/bp-rqm-19
CLASS:PUBLIC
END:VEVENT
END:VCALENDAR
