BEGIN:VCALENDAR
PRODID:-//ICTPDiploma//ATRoom//EN
VERSION:2.0
METHOD:PUBLISH
BEGIN:VEVENT
DTSTAMP:20260421T235207Z
CREATED:20110722T075103Z
UID:ATEvent-2e1b80a34cbd15d39fab57f7af00c786
LAST-MODIFIED:20110722T075158Z
SUMMARY:BP-RQM
DTSTART:20110803T070000Z
DTEND:20110803T083000Z
LOCATION:Lecture Room H
CONTACT:E. Gozzi
URL:https://diploma-clear.ictp.it/courses/weekly-schedule/lecture-room-h/bp-rqm-54
CLASS:PUBLIC
END:VEVENT
BEGIN:VEVENT
DTSTAMP:20260421T235207Z
CREATED:20110722T075217Z
UID:ATEvent-15aff79ef719d8f14029f24c895d1007
LAST-MODIFIED:20110729T090856Z
SUMMARY:EXAM
DTSTART:20110803T090000Z
DTEND:20110803T103000Z
LOCATION:Lecture Room H
CONTACT:E. Gozzi
URL:https://diploma-clear.ictp.it/courses/weekly-schedule/lecture-room-h/exam-32
CLASS:PUBLIC
END:VEVENT
BEGIN:VEVENT
DTSTAMP:20260421T235207Z
CREATED:20110729T090915Z
UID:ATEvent-b4092400e5e49416eef92aef80f5cb1c
LAST-MODIFIED:20110729T090959Z
SUMMARY:15:00-16:30 BP-RQM
DTSTART:20110802T120000Z
DTEND:20110802T133000Z
LOCATION:Lecture Room H
CONTACT:E. Gozzi
URL:https://diploma-clear.ictp.it/courses/weekly-schedule/lecture-room-h/15-00-16-30-bp-rqm
CLASS:PUBLIC
END:VEVENT
END:VCALENDAR
