BEGIN:VCALENDAR
PRODID:-//ICTPDiploma//ATRoom//EN
VERSION:2.0
METHOD:PUBLISH
BEGIN:VEVENT
DTSTAMP:20260425T133318Z
CREATED:20100215T151400Z
UID:ATEvent-8998169ea11f84f767ee74c8d08618fe
LAST-MODIFIED:20100215T151429Z
SUMMARY:BP-SM
DTSTART:20100503T070000Z
DTEND:20100503T083000Z
LOCATION:Lecture Room H
CONTACT:M. Marsili
URL:https://diploma-clear.ictp.it/courses/weekly-schedule/lecture-room-h/bp-sm-41
CLASS:PUBLIC
END:VEVENT
BEGIN:VEVENT
DTSTAMP:20260425T133318Z
CREATED:20100416T124839Z
UID:ATEvent-7be2ce318ab142a3582fa2c3cbcf5801
LAST-MODIFIED:20100416T124909Z
SUMMARY:BP-SM tut.
DTSTART:20100504T070000Z
DTEND:20100504T083000Z
LOCATION:Lecture Room H
CONTACT:Pierpaolo Vivo
URL:https://diploma-clear.ictp.it/courses/weekly-schedule/lecture-room-h/bp-sm-tut-11
CLASS:PUBLIC
END:VEVENT
BEGIN:VEVENT
DTSTAMP:20260425T133318Z
CREATED:20100215T151838Z
UID:ATEvent-a67c077dcb1e90f05e8d2e7c13a11c44
LAST-MODIFIED:20100215T151901Z
SUMMARY:BP-SM
DTSTART:20100505T070000Z
DTEND:20100505T083000Z
LOCATION:Lecture Room H
CONTACT:M. Marsili
URL:https://diploma-clear.ictp.it/courses/weekly-schedule/lecture-room-h/bp-sm-42
CLASS:PUBLIC
END:VEVENT
BEGIN:VEVENT
DTSTAMP:20260425T133318Z
CREATED:20100427T095020Z
UID:ATEvent-0dbb0ecaccc14f3ac98302bd935db7a1
LAST-MODIFIED:20100427T095049Z
SUMMARY:BP-SSP
DTSTART:20100506T070000Z
DTEND:20100506T083000Z
LOCATION:Lecture Room H
CONTACT:S. Scandolo
URL:https://diploma-clear.ictp.it/courses/weekly-schedule/lecture-room-h/bp-ssp-21
CLASS:PUBLIC
END:VEVENT
BEGIN:VEVENT
DTSTAMP:20260425T133318Z
CREATED:20100215T152420Z
UID:ATEvent-fb8fa0dea6f5d5cad0a6bca2d9c759a7
LAST-MODIFIED:20100215T152445Z
SUMMARY:BP-SM
DTSTART:20100507T070000Z
DTEND:20100507T083000Z
LOCATION:Lecture Room H
CONTACT:M. Marsili
URL:https://diploma-clear.ictp.it/courses/weekly-schedule/lecture-room-h/bp-sm-43
CLASS:PUBLIC
END:VEVENT
BEGIN:VEVENT
DTSTAMP:20260425T133318Z
CREATED:20100215T151442Z
UID:ATEvent-1b3300cde4f689feddfd8d5afe313fd5
LAST-MODIFIED:20100215T151512Z
SUMMARY:ESP-IM
DTSTART:20100503T090000Z
DTEND:20100503T103000Z
LOCATION:Lecture Room H
CONTACT:D. Giaiotti
URL:https://diploma-clear.ictp.it/courses/weekly-schedule/lecture-room-h/esp-im-6
CLASS:PUBLIC
END:VEVENT
BEGIN:VEVENT
DTSTAMP:20260425T133318Z
CREATED:20100215T151700Z
UID:ATEvent-05a28fc3ce73f403420371618fd4775d
LAST-MODIFIED:20100215T151743Z
SUMMARY:BP-PES
DTSTART:20100504T090000Z
DTEND:20100504T103000Z
LOCATION:Lecture Room H
CONTACT:A.  Tompkins
URL:https://diploma-clear.ictp.it/courses/weekly-schedule/lecture-room-h/bp-pes-27
CLASS:PUBLIC
END:VEVENT
BEGIN:VEVENT
DTSTAMP:20260425T133318Z
CREATED:20100215T151912Z
UID:ATEvent-493f41d7e3ce9ee974044502f5c2d8ad
LAST-MODIFIED:20100215T151954Z
SUMMARY:ESP-IM
DTSTART:20100505T090000Z
DTEND:20100505T103000Z
LOCATION:Lecture Room H
CONTACT:D. Giaiotti
URL:https://diploma-clear.ictp.it/courses/weekly-schedule/lecture-room-h/esp-im-8
CLASS:PUBLIC
END:VEVENT
BEGIN:VEVENT
DTSTAMP:20260425T133318Z
CREATED:20100215T152142Z
UID:ATEvent-fb5f07384e20c4560fb89f0c583afd1e
LAST-MODIFIED:20100215T152231Z
SUMMARY:BP-PES
DTSTART:20100506T090000Z
DTEND:20100506T103000Z
LOCATION:Lecture Room H
CONTACT:A.  Tompkins
URL:https://diploma-clear.ictp.it/courses/weekly-schedule/lecture-room-h/bp-pes-28
CLASS:PUBLIC
END:VEVENT
BEGIN:VEVENT
DTSTAMP:20260425T133318Z
CREATED:20100215T152456Z
UID:ATEvent-f3e2c9cabe460dc9d8ac4da5b2ab76dd
LAST-MODIFIED:20100215T152522Z
SUMMARY:ESP-IM
DTSTART:20100507T090000Z
DTEND:20100507T103000Z
LOCATION:Lecture Room H
CONTACT:D. Giaiotti
URL:https://diploma-clear.ictp.it/courses/weekly-schedule/lecture-room-h/esp-im-10
CLASS:PUBLIC
END:VEVENT
BEGIN:VEVENT
DTSTAMP:20260425T133318Z
CREATED:20100215T151529Z
UID:ATEvent-ee5140285742392469d0cfa1a9888472
LAST-MODIFIED:20100215T151558Z
SUMMARY:BP-AQM
DTSTART:20100503T120000Z
DTEND:20100503T133000Z
LOCATION:Lecture Room H
CONTACT:G. Santoro
URL:https://diploma-clear.ictp.it/courses/weekly-schedule/lecture-room-h/bp-aqm-46
CLASS:PUBLIC
END:VEVENT
BEGIN:VEVENT
DTSTAMP:20260425T133318Z
CREATED:20100215T152006Z
UID:ATEvent-0a4e41732ebe77f13cba1f9e43878f41
LAST-MODIFIED:20100215T152036Z
SUMMARY:BP-AQM
DTSTART:20100505T120000Z
DTEND:20100505T133000Z
LOCATION:Lecture Room H
CONTACT:G. Santoro
URL:https://diploma-clear.ictp.it/courses/weekly-schedule/lecture-room-h/bp-aqm-47
CLASS:PUBLIC
END:VEVENT
BEGIN:VEVENT
DTSTAMP:20260425T133318Z
CREATED:20100215T152246Z
UID:ATEvent-64f346dff4bb95423b50ed2ed74ae425
LAST-MODIFIED:20100215T152317Z
SUMMARY:BP-AQM
DTSTART:20100506T120000Z
DTEND:20100506T133000Z
LOCATION:Lecture Room H
CONTACT:G. Santoro
URL:https://diploma-clear.ictp.it/courses/weekly-schedule/lecture-room-h/bp-aqm-48
CLASS:PUBLIC
END:VEVENT
BEGIN:VEVENT
DTSTAMP:20260425T133318Z
CREATED:20100215T152538Z
UID:ATEvent-bae8f98060bb2da01663a11dd6b34f27
LAST-MODIFIED:20100215T152602Z
SUMMARY:ESP-IM
DTSTART:20100507T120000Z
DTEND:20100507T133000Z
LOCATION:Lecture Room H
CONTACT:D. Giaiotti
URL:https://diploma-clear.ictp.it/courses/weekly-schedule/lecture-room-h/esp-im-11
CLASS:PUBLIC
END:VEVENT
BEGIN:VEVENT
DTSTAMP:20260425T133318Z
CREATED:20100215T151616Z
UID:ATEvent-0a3f140d6eb9f7f6a5f2d481ce4334db
LAST-MODIFIED:20100215T151647Z
SUMMARY:ESP-IM
DTSTART:20100503T140000Z
DTEND:20100503T153000Z
LOCATION:Lecture Room H
CONTACT:D. Giaiotti
URL:https://diploma-clear.ictp.it/courses/weekly-schedule/lecture-room-h/esp-im-7
CLASS:PUBLIC
END:VEVENT
BEGIN:VEVENT
DTSTAMP:20260425T133318Z
CREATED:20100215T151800Z
UID:ATEvent-6fc83913490029eee4a5a250d6af3e2f
LAST-MODIFIED:20100215T151826Z
SUMMARY:ESP-MET
DTSTART:20100504T140000Z
DTEND:20100504T153000Z
LOCATION:Lecture Room H
CONTACT:Abdelkrim Aoudia
URL:https://diploma-clear.ictp.it/courses/weekly-schedule/lecture-room-h/esp-met-28
CLASS:PUBLIC
END:VEVENT
BEGIN:VEVENT
DTSTAMP:20260425T133318Z
CREATED:20100215T152052Z
UID:ATEvent-49bf9f68efae7f11dea31fb789ca136f
LAST-MODIFIED:20100215T152124Z
SUMMARY:ESP-IM
DTSTART:20100505T140000Z
DTEND:20100505T153000Z
LOCATION:Lecture Room H
CONTACT:D. Giaiotti
URL:https://diploma-clear.ictp.it/courses/weekly-schedule/lecture-room-h/esp-im-9
CLASS:PUBLIC
END:VEVENT
BEGIN:VEVENT
DTSTAMP:20260425T133318Z
CREATED:20100426T090859Z
UID:ATEvent-11c0a3c1a26737226c9244cacfeecd4f
LAST-MODIFIED:20100426T090934Z
SUMMARY:
DTSTART:20100506T140000Z
DTEND:20100506T153000Z
LOCATION:Lecture Room H
URL:https://diploma-clear.ictp.it/courses/weekly-schedule/lecture-room-h/-32
CLASS:PUBLIC
END:VEVENT
BEGIN:VEVENT
DTSTAMP:20260425T133318Z
CREATED:20100215T152331Z
UID:ATEvent-8a9758e00aa66086233a6b5c4cd55f9f
LAST-MODIFIED:20100426T090547Z
SUMMARY:ESP-MET
DTSTART:20100507T140000Z
DTEND:20100507T153000Z
LOCATION:Lecture Room H
CONTACT:Abdelkrim Aoudia
URL:https://diploma-clear.ictp.it/courses/weekly-schedule/lecture-room-h/esp-met-29
CLASS:PUBLIC
END:VEVENT
BEGIN:VEVENT
DTSTAMP:20260425T133318Z
CREATED:20100325T091649Z
UID:ATEvent-16890b2b4afcb35b11277a6cb40a7db1
LAST-MODIFIED:20100503T131432Z
SUMMARY:BP-AQM
DTSTART:20100504T153000Z
DTEND:20100504T170000Z
LOCATION:Lecture Room H
CONTACT:G. Santoro
URL:https://diploma-clear.ictp.it/courses/weekly-schedule/lecture-room-h/bp-aqm-61
CLASS:PUBLIC
END:VEVENT
END:VCALENDAR
