BEGIN:VCALENDAR
PRODID:-//ICTPDiploma//ATRoom//EN
VERSION:2.0
METHOD:PUBLISH
BEGIN:VEVENT
DTSTAMP:20260423T004605Z
CREATED:20121221T132101Z
UID:ATEvent-20c2e9c4ae9eba43dea657c9ec33878e
LAST-MODIFIED:20121221T132101Z
SUMMARY:ESP-HYD
DTSTART:20130422T070000Z
DTEND:20130422T083000Z
LOCATION:Lecture Room H
CONTACT:E. Coppola
URL:https://diploma-clear.ictp.it/courses/weekly-schedule/lecture-room-h/lecture.2012-12-21.0607096174
CLASS:PUBLIC
END:VEVENT
BEGIN:VEVENT
DTSTAMP:20260423T004605Z
CREATED:20121221T132101Z
UID:ATEvent-741b28c597e8857cdc31850b19083230
LAST-MODIFIED:20121221T132101Z
SUMMARY:ESP-HYD
DTSTART:20130423T070000Z
DTEND:20130423T083000Z
LOCATION:Lecture Room H
CONTACT:E. Coppola
URL:https://diploma-clear.ictp.it/courses/weekly-schedule/lecture-room-h/lecture.2012-12-21.0611529077
CLASS:PUBLIC
END:VEVENT
BEGIN:VEVENT
DTSTAMP:20260423T004605Z
CREATED:20121221T132101Z
UID:ATEvent-dec9697bc430b9b06bd22f10cd3eb75b
LAST-MODIFIED:20121221T132102Z
SUMMARY:ESP-HYD
DTSTART:20130425T070000Z
DTEND:20130425T083000Z
LOCATION:Lecture Room H
CONTACT:E. Coppola
URL:https://diploma-clear.ictp.it/courses/weekly-schedule/lecture-room-h/lecture.2012-12-21.0615894379
CLASS:PUBLIC
END:VEVENT
BEGIN:VEVENT
DTSTAMP:20260423T004605Z
CREATED:20130320T155506Z
UID:ATEvent-d80918589dfa50043901e9bd5bb950d3
LAST-MODIFIED:20130320T155604Z
SUMMARY:ESP-BC
DTSTART:20130426T070000Z
DTEND:20130426T083000Z
LOCATION:Lecture Room H
URL:https://diploma-clear.ictp.it/courses/weekly-schedule/lecture-room-h/esp-bc-11
CLASS:PUBLIC
END:VEVENT
BEGIN:VEVENT
DTSTAMP:20260423T004605Z
CREATED:20130320T155727Z
UID:ATEvent-9b93288e112dd951b516c4be25e0be93
LAST-MODIFIED:20130320T155901Z
SUMMARY:EXAM
DTSTART:20130426T090000Z
DTEND:20130426T103000Z
LOCATION:Lecture Room H
CONTACT:F. Solmon
URL:https://diploma-clear.ictp.it/courses/weekly-schedule/lecture-room-h/exam-57
CLASS:PUBLIC
END:VEVENT
BEGIN:VEVENT
DTSTAMP:20260423T004605Z
CREATED:20121221T135457Z
UID:ATEvent-7e6bdaf15d9e379a01d03dc1beebc2d5
LAST-MODIFIED:20121221T135457Z
SUMMARY:ESP-GS
DTSTART:20130422T120000Z
DTEND:20130422T133000Z
LOCATION:Lecture Room H
CONTACT:A. Borghi
URL:https://diploma-clear.ictp.it/courses/weekly-schedule/lecture-room-h/lecture.2012-12-21.0971423392
CLASS:PUBLIC
END:VEVENT
BEGIN:VEVENT
DTSTAMP:20260423T004605Z
CREATED:20121221T135457Z
UID:ATEvent-e2d989672e5e14b5a990aaafbc1737fc
LAST-MODIFIED:20121221T135458Z
SUMMARY:ESP-GS
DTSTART:20130425T120000Z
DTEND:20130425T133000Z
LOCATION:Lecture Room H
CONTACT:A. Borghi
URL:https://diploma-clear.ictp.it/courses/weekly-schedule/lecture-room-h/lecture.2012-12-21.0975894193
CLASS:PUBLIC
END:VEVENT
BEGIN:VEVENT
DTSTAMP:20260423T004605Z
CREATED:20121221T135458Z
UID:ATEvent-ee18786f81aaf5c7ff98d2d6f09f0c59
LAST-MODIFIED:20121221T135458Z
SUMMARY:ESP-GS
DTSTART:20130426T120000Z
DTEND:20130426T133000Z
LOCATION:Lecture Room H
CONTACT:A. Borghi
URL:https://diploma-clear.ictp.it/courses/weekly-schedule/lecture-room-h/lecture.2012-12-21.0980383214
CLASS:PUBLIC
END:VEVENT
END:VCALENDAR
