BEGIN:VCALENDAR
PRODID:-//ICTPDiploma//ATRoom//EN
VERSION:2.0
METHOD:PUBLISH
BEGIN:VEVENT
DTSTAMP:20260421T160227Z
CREATED:20121221T132100Z
UID:ATEvent-b945fcfac320823cba084b94d74769fd
LAST-MODIFIED:20121221T132100Z
SUMMARY:ESP-HYD
DTSTART:20130416T070000Z
DTEND:20130416T083000Z
LOCATION:Lecture Room H
CONTACT:E. Coppola
URL:https://diploma-clear.ictp.it/courses/weekly-schedule/lecture-room-h/lecture.2012-12-21.0598322854
CLASS:PUBLIC
END:VEVENT
BEGIN:VEVENT
DTSTAMP:20260421T160227Z
CREATED:20121221T132100Z
UID:ATEvent-15afb27fac081ef7ec1b8fed28e90930
LAST-MODIFIED:20121221T132100Z
SUMMARY:ESP-HYD
DTSTART:20130418T070000Z
DTEND:20130418T083000Z
LOCATION:Lecture Room H
CONTACT:E. Coppola
URL:https://diploma-clear.ictp.it/courses/weekly-schedule/lecture-room-h/lecture.2012-12-21.0602690355
CLASS:PUBLIC
END:VEVENT
BEGIN:VEVENT
DTSTAMP:20260421T160227Z
CREATED:20130326T133131Z
UID:ATEvent-4ea218a3122fc5d2d31223d5b6701b93
LAST-MODIFIED:20130326T133206Z
SUMMARY:ESP-CD
DTSTART:20130416T090000Z
DTEND:20130416T103000Z
LOCATION:Lecture Room H
CONTACT:F. Kucharski
URL:https://diploma-clear.ictp.it/courses/weekly-schedule/lecture-room-h/esp-cd-8
CLASS:PUBLIC
END:VEVENT
BEGIN:VEVENT
DTSTAMP:20260421T160227Z
CREATED:20121221T132059Z
UID:ATEvent-0a19e18ac8e8a395dbd5fe5042d78acf
LAST-MODIFIED:20130417T094136Z
SUMMARY:ESP-HYD
DTSTART:20130419T090000Z
DTEND:20130419T103000Z
LOCATION:Lecture Room H
CONTACT:E. Coppola
URL:https://diploma-clear.ictp.it/courses/weekly-schedule/lecture-room-h/lecture.2012-12-21.0593911382
CLASS:PUBLIC
END:VEVENT
BEGIN:VEVENT
DTSTAMP:20260421T160227Z
CREATED:20121221T135455Z
UID:ATEvent-75055d709c655e2f7613e8fce73094e2
LAST-MODIFIED:20121221T135456Z
SUMMARY:ESP-GS
DTSTART:20130415T120000Z
DTEND:20130415T133000Z
LOCATION:Lecture Room H
CONTACT:A. Borghi
URL:https://diploma-clear.ictp.it/courses/weekly-schedule/lecture-room-h/lecture.2012-12-21.0926538136
CLASS:PUBLIC
END:VEVENT
BEGIN:VEVENT
DTSTAMP:20260421T160227Z
CREATED:20121221T131638Z
UID:ATEvent-de5744edb834df0ae726a1d5278de878
LAST-MODIFIED:20130417T094128Z
SUMMARY:ESP-CD
DTSTART:20130417T120000Z
DTEND:20130417T133000Z
LOCATION:Lecture Room H
CONTACT:F. Kucharski
URL:https://diploma-clear.ictp.it/courses/weekly-schedule/lecture-room-h/esp-cd-5
CLASS:PUBLIC
END:VEVENT
BEGIN:VEVENT
DTSTAMP:20260421T160227Z
CREATED:20121221T135456Z
UID:ATEvent-d59d27f1338d5ca7591610f476c456f1
LAST-MODIFIED:20121221T135456Z
SUMMARY:ESP-GS
DTSTART:20130418T120000Z
DTEND:20130418T133000Z
LOCATION:Lecture Room H
CONTACT:A. Borghi
URL:https://diploma-clear.ictp.it/courses/weekly-schedule/lecture-room-h/lecture.2012-12-21.0962354241
CLASS:PUBLIC
END:VEVENT
BEGIN:VEVENT
DTSTAMP:20260421T160227Z
CREATED:20121221T135457Z
UID:ATEvent-84612f0bf3297439444abdace43e6bc4
LAST-MODIFIED:20121221T135457Z
SUMMARY:ESP-GS
DTSTART:20130419T120000Z
DTEND:20130419T133000Z
LOCATION:Lecture Room H
CONTACT:A. Borghi
URL:https://diploma-clear.ictp.it/courses/weekly-schedule/lecture-room-h/lecture.2012-12-21.0966864168
CLASS:PUBLIC
END:VEVENT
END:VCALENDAR
