BEGIN:VCALENDAR
PRODID:-//ICTPDiploma//ATRoom//EN
VERSION:2.0
METHOD:PUBLISH
BEGIN:VEVENT
DTSTAMP:20260422T063451Z
CREATED:20140109T103618Z
UID:ATEvent-9b471e5f9c8841a2ae09a1550a8cfba5
LAST-MODIFIED:20140109T103640Z
SUMMARY:ESP-HYD
DTSTART:20140415T070000Z
DTEND:20140415T083000Z
LOCATION:Lecture Room H
CONTACT:E. Coppola
URL:https://diploma-clear.ictp.it/courses/weekly-schedule/lecture-room-h/esp-hyd-9
CLASS:PUBLIC
END:VEVENT
BEGIN:VEVENT
DTSTAMP:20260422T063451Z
CREATED:20140411T124501Z
UID:ATEvent-92dfdfbb50fe47b8b9833ebab569f0cc
LAST-MODIFIED:20140411T124520Z
SUMMARY:GOOD FRIDAY
DTSTART:20140418T070000Z
DTEND:20140418T083000Z
LOCATION:Lecture Room H
URL:https://diploma-clear.ictp.it/courses/weekly-schedule/lecture-room-h/good-friday-2
CLASS:PUBLIC
END:VEVENT
BEGIN:VEVENT
DTSTAMP:20260422T063451Z
CREATED:20140411T124526Z
UID:ATEvent-1ee644c16f574e05b8abaa0716ef180b
LAST-MODIFIED:20140411T124550Z
SUMMARY:ICTP official holiday
DTSTART:20140418T090000Z
DTEND:20140418T103000Z
LOCATION:Lecture Room H
URL:https://diploma-clear.ictp.it/courses/weekly-schedule/lecture-room-h/ictp-official-holiday-1
CLASS:PUBLIC
END:VEVENT
BEGIN:VEVENT
DTSTAMP:20260422T063451Z
CREATED:20140110T131734Z
UID:ATEvent-1fbcb0d3a2f44620bc978ba77afe3346
LAST-MODIFIED:20140110T131734Z
SUMMARY:ESP-GS
DTSTART:20140416T120000Z
DTEND:20140416T133000Z
LOCATION:Lecture Room H
CONTACT:A. Borghi
URL:https://diploma-clear.ictp.it/courses/weekly-schedule/lecture-room-h/lecture.2014-01-10.8547156502
CLASS:PUBLIC
END:VEVENT
BEGIN:VEVENT
DTSTAMP:20260422T063451Z
CREATED:20140110T131734Z
UID:ATEvent-21e78b69c4d7496fbf9761126414c328
LAST-MODIFIED:20140110T131735Z
SUMMARY:ESP-GS
DTSTART:20140417T120000Z
DTEND:20140417T133000Z
LOCATION:Lecture Room H
CONTACT:A. Borghi
URL:https://diploma-clear.ictp.it/courses/weekly-schedule/lecture-room-h/lecture.2014-01-10.8548740592
CLASS:PUBLIC
END:VEVENT
BEGIN:VEVENT
DTSTAMP:20260422T063451Z
CREATED:20140411T124601Z
UID:ATEvent-241b541f57824fb6a0525361be4ba20b
LAST-MODIFIED:20140411T124622Z
SUMMARY:
DTSTART:20140418T120000Z
DTEND:20140418T170000Z
LOCATION:Lecture Room H
URL:https://diploma-clear.ictp.it/courses/weekly-schedule/lecture-room-h/-75
CLASS:PUBLIC
END:VEVENT
BEGIN:VEVENT
DTSTAMP:20260422T063451Z
CREATED:20140411T124601Z
UID:ATEvent-241b541f57824fb6a0525361be4ba20b
LAST-MODIFIED:20140411T124622Z
SUMMARY:
DTSTART:20140418T120000Z
DTEND:20140418T170000Z
LOCATION:Lecture Room H
URL:https://diploma-clear.ictp.it/courses/weekly-schedule/lecture-room-h/-75
CLASS:PUBLIC
END:VEVENT
BEGIN:VEVENT
DTSTAMP:20260422T063451Z
CREATED:20140411T124601Z
UID:ATEvent-241b541f57824fb6a0525361be4ba20b
LAST-MODIFIED:20140411T124622Z
SUMMARY:
DTSTART:20140418T120000Z
DTEND:20140418T170000Z
LOCATION:Lecture Room H
URL:https://diploma-clear.ictp.it/courses/weekly-schedule/lecture-room-h/-75
CLASS:PUBLIC
END:VEVENT
END:VCALENDAR
