BEGIN:VCALENDAR
PRODID:-//AT Content Types//AT Event//EN
VERSION:1.0
BEGIN:VEVENT
DTSTART:20090410T153000Z
DTEND:20090410T170000Z
DCREATED:20090220T132030Z
UID:ATEvent-7871586d0606f731e731ded4056ba249
SEQUENCE:0
LAST-MODIFIED:20090220T132108Z
SUMMARY:holiday
LOCATION:Lecture Room H
PRIORITY:3
TRANSP:0
END:VEVENT
END:VCALENDAR
