BEGIN:VCALENDAR
PRODID:-//AT Content Types//AT Event//EN
VERSION:2.0
METHOD:PUBLISH
BEGIN:VEVENT
DTSTAMP:20260420T133159Z
CREATED:20191118T093251Z
UID:ATEvent-a1c833871a324a39a99c577042e2af5c
LAST-MODIFIED:20191118T093306Z
SUMMARY:holiday
DTSTART:20200106T150000Z
DTEND:20200106T163000Z
LOCATION:Lecture Room H
URL:https://diploma-clear.ictp.it/courses/weekly-schedule/lecture-room-h/holiday-14
CLASS:PUBLIC
END:VEVENT
END:VCALENDAR
