BEGIN:VCALENDAR
PRODID:-//AT Content Types//AT Event//EN
VERSION:2.0
METHOD:PUBLISH
BEGIN:VEVENT
DTSTAMP:20260422T063522Z
CREATED:20120523T115213Z
UID:ATEvent-f7119353d5f6577038278d09fd7c72fe
LAST-MODIFIED:20120523T115900Z
SUMMARY:PHY-RQM
DTSTART:20120529T070000Z
DTEND:20120529T083000Z
LOCATION:Lecture Room H
URL:https://diploma-clear.ictp.it/courses/weekly-schedule/lecture-room-h/hep-rqm-1
CLASS:PUBLIC
END:VEVENT
END:VCALENDAR
