BEGIN:VCALENDAR
PRODID:-//AT Content Types//AT Event//EN
VERSION:1.0
BEGIN:VEVENT
DTSTART:20090108T150000Z
DTEND:20090108T163000Z
DCREATED:20081217T104524Z
UID:ATEvent-55934ab0e47e898c746556411c4e2bbd
SEQUENCE:0
LAST-MODIFIED:20081223T110838Z
SUMMARY:EXAM
LOCATION:Lecture Room H
PRIORITY:3
TRANSP:0
END:VEVENT
END:VCALENDAR
