BEGIN:VCALENDAR
PRODID:-//AT Content Types//AT Event//EN
VERSION:1.0
BEGIN:VEVENT
DTSTART:20090626T090000Z
DTEND:20090626T103000Z
DCREATED:20090622T071242Z
UID:ATEvent-b9646e7fe4381b6d585dbf6389c9c575
SEQUENCE:0
LAST-MODIFIED:20090624T113231Z
SUMMARY:EXAM
LOCATION:Lecture Room H
PRIORITY:3
TRANSP:0
END:VEVENT
END:VCALENDAR
