BEGIN:VCALENDAR
PRODID:-//AT Content Types//AT Event//EN
VERSION:2.0
METHOD:PUBLISH
BEGIN:VEVENT
DTSTAMP:20260425T225852Z
CREATED:20140226T131013Z
UID:ATEvent-c89e3dd984f04f7ca31f7577a23434f7
LAST-MODIFIED:20140408T094855Z
SUMMARY:EXAM
DTSTART:20140409T120000Z
DTEND:20140409T133000Z
LOCATION:Lecture Room H
CONTACT:A. Aoudia
URL:https://diploma-clear.ictp.it/courses/weekly-schedule/lecture-room-h/exam-68
CLASS:PUBLIC
END:VEVENT
END:VCALENDAR
