BEGIN:VCALENDAR
PRODID:-//AT Content Types//AT Event//EN
VERSION:1.0
BEGIN:VEVENT
DTSTART:20121213T150000Z
DTEND:20121213T163000Z
DCREATED:20121019T121105Z
UID:ATEvent-bb2dd2d2104dda7fc908ce0f5046ea19
SEQUENCE:0
LAST-MODIFIED:20121019T121138Z
SUMMARY:EXAM
LOCATION:Lecture Room H
PRIORITY:3
TRANSP:0
END:VEVENT
END:VCALENDAR
