BEGIN:VCALENDAR
PRODID:-//AT Content Types//AT Event//EN
VERSION:1.0
BEGIN:VEVENT
DTSTART:20120604T090000Z
DTEND:20120604T103000Z
DCREATED:20120423T135930Z
UID:ATEvent-37ff5f6510152553b46c665320d6aba1
SEQUENCE:0
LAST-MODIFIED:20120516T145938Z
SUMMARY:EXAM
LOCATION:Lecture Room H
PRIORITY:3
TRANSP:0
END:VEVENT
END:VCALENDAR
