BEGIN:VCALENDAR
PRODID:-//AT Content Types//AT Event//EN
VERSION:1.0
BEGIN:VEVENT
DTSTART:20110322T150000Z
DTEND:20110322T163000Z
DCREATED:20110314T083343Z
UID:ATEvent-462c3f20ba8106150da1c0597999f94b
SEQUENCE:0
LAST-MODIFIED:20110314T083404Z
SUMMARY:EXAM
LOCATION:Lecture Room H
PRIORITY:3
TRANSP:0
END:VEVENT
END:VCALENDAR
