BEGIN:VCALENDAR
PRODID:-//AT Content Types//AT Event//EN
VERSION:1.0
BEGIN:VEVENT
DTSTART:20110127T150000Z
DTEND:20110127T163000Z
DCREATED:20101209T085820Z
UID:ATEvent-20cae4af5d953aa5af93d2b393224d3b
SEQUENCE:0
LAST-MODIFIED:20101209T085857Z
SUMMARY:EXAM
LOCATION:Lecture Room H
PRIORITY:3
TRANSP:0
END:VEVENT
END:VCALENDAR
