BEGIN:VCALENDAR
PRODID:-//AT Content Types//AT Event//EN
VERSION:1.0
BEGIN:VEVENT
DTSTART:20101209T100000Z
DTEND:20101209T113000Z
DCREATED:20101130T150753Z
UID:ATEvent-cf3a46ce0427a1e2fb066a895976c6b1
SEQUENCE:0
LAST-MODIFIED:20101130T150837Z
SUMMARY:EXAM
LOCATION:Lecture Room H
PRIORITY:3
TRANSP:0
END:VEVENT
END:VCALENDAR
