BEGIN:VCALENDAR
PRODID:-//AT Content Types//AT Event//EN
VERSION:1.0
BEGIN:VEVENT
DTSTART:20100112T100000Z
DTEND:20100112T113000Z
DCREATED:20091127T115605Z
UID:ATEvent-c477c3ef19defb1f4e51f77f8dc99477
SEQUENCE:0
LAST-MODIFIED:20091127T115643Z
SUMMARY:EXAM
LOCATION:Lecture Room H
PRIORITY:3
TRANSP:0
END:VEVENT
END:VCALENDAR
