BEGIN:VCALENDAR
PRODID:-//AT Content Types//AT Event//EN
VERSION:2.0
METHOD:PUBLISH
BEGIN:VEVENT
DTSTAMP:20260420T222504Z
CREATED:20101209T094904Z
UID:ATEvent-7c71464e2e0894a58354c06ccd10685c
LAST-MODIFIED:20101209T094956Z
SUMMARY:ESP-WP tut.
DTSTART:20101214T150000Z
DTEND:20101214T163000Z
LOCATION:Lecture Room H
CONTACT:F. Romanelli
URL:https://diploma-clear.ictp.it/courses/weekly-schedule/lecture-room-h/esp-wp-tut
CLASS:PUBLIC
END:VEVENT
END:VCALENDAR
