BEGIN:VCALENDAR
PRODID:-//AT Content Types//AT Event//EN
VERSION:1.0
BEGIN:VEVENT
DTSTART:20081215T130000Z
DTEND:20081215T143000Z
DCREATED:20081201T103408Z
UID:ATEvent-6bb8311bc51d49a8b398fe5cbb44ec81
SEQUENCE:0
LAST-MODIFIED:20081201T103507Z
SUMMARY:ESP-WP Readings
LOCATION:Lecture Room H
PRIORITY:3
TRANSP:0
END:VEVENT
END:VCALENDAR
