BEGIN:VCALENDAR
PRODID:-//AT Content Types//AT Event//EN
VERSION:1.0
BEGIN:VEVENT
DTSTART:20090908T090000Z
DTEND:20090908T103000Z
DCREATED:20090902T101520Z
UID:ATEvent-502f26d00b9b08969da17a2c903f861c
SEQUENCE:0
LAST-MODIFIED:20090902T101729Z
SUMMARY:ESP-WP
LOCATION:Lecture Room H
PRIORITY:3
TRANSP:0
END:VEVENT
END:VCALENDAR
