BEGIN:VCALENDAR
PRODID:-//AT Content Types//AT Event//EN
VERSION:1.0
BEGIN:VEVENT
DTSTART:20111108T100000Z
DTEND:20111108T113000Z
DCREATED:20110905T090340Z
UID:ATEvent-68a6388a81e2feefb4d7b9d2a0c337d4
SEQUENCE:0
LAST-MODIFIED:20110905T090418Z
SUMMARY:ESP-WP
LOCATION:Lecture Room H
PRIORITY:3
TRANSP:0
END:VEVENT
END:VCALENDAR
